BEGIN:VCALENDAR
PRODID:-//Microsoft Corporation//Outlook MIMEDIR//EN
VERSION:2.0
METHOD:PUBLISH
BEGIN:VEVENT
DTSTART:20260501T100000
DTEND:20260501T110000
DESCRIPTION:Notice of Potential Quorum -  A quorum of the Snohomish County Council may be present for the Legislative Page Program
LOCATION:Jackson Board Room - 8th Floor Robert J. Drewel Building & Remote Meeting
SUMMARY:Council Meeting
CATEGORIES:MEETING
END:VEVENT
END:VCALENDAR
