BEGIN:VCALENDAR
PRODID:-//Microsoft Corporation//Outlook MIMEDIR//EN
VERSION:2.0
METHOD:PUBLISH
BEGIN:VEVENT
DTSTART:20260413T080000
DTEND:20260413T090000
DESCRIPTION:2027/2028 Budget Process SPECIAL MEETING
LOCATION:Vista Conference Room Willis Tucker Park 6705 Puget Park Drive Snohomish, WA (in-person meeting only)
SUMMARY:Council Meeting
CATEGORIES:MEETING
END:VEVENT
END:VCALENDAR
